BEGIN:VCALENDAR
VERSION:2.0
PRODID:-//Tukios.com/
BEGIN:VEVENT
UID:bbca3f6f-502d-442d-9e01-023d267bed20@www.martinezwest.com
DTSTAMP:20260420T220724Z
DTSTART:20260421T170000Z
DTEND:20260422T020000Z
SUMMARY:Visitation
DESCRIPTION:
URL:https://www.martinezwest.com/obituaries/rosalinda-tavarez
LOCATION: 10137 W University Blvd  Odessa TX 79764
GEO:31.8421638;-102.494278
END:VEVENT
END:VCALENDAR