BEGIN:VCALENDAR
VERSION:2.0
PRODID:-//Tukios.com/
BEGIN:VEVENT
UID:2b3d76bc-2043-4c39-a893-9ac1ccd8940d@www.martinezwest.com
DTSTAMP:20260420T220832Z
DTSTART:20260422
SUMMARY:Burial
DESCRIPTION:
URL:https://www.martinezwest.com/obituaries/rosalinda-tavarez
LOCATION: 4100 FM 1788  Midland TX 79707
GEO:31.9136627;-102.2161973
END:VEVENT
END:VCALENDAR