BEGIN:VCALENDAR
VERSION:2.0
PRODID:-//Tukios.com/
BEGIN:VEVENT
UID:94f82b6b-d77e-4b9c-9ded-9839e786951d@www.martinezwest.com
DTSTAMP:20260420T220623Z
DTSTART:20260422T000000Z
DTEND:20260422T010000Z
SUMMARY:Prayer Service
DESCRIPTION:
URL:https://www.martinezwest.com/obituaries/rosalinda-tavarez
LOCATION: 10137 W University Blvd  Odessa TX 79764
GEO:31.8421638;-102.494278
END:VEVENT
END:VCALENDAR